BEGIN:VCALENDAR
VERSION:2.0
PRODID:-//North Tahoe Public Utility District - ECPv6.15.18//NONSGML v1.0//EN
CALSCALE:GREGORIAN
METHOD:PUBLISH
X-ORIGINAL-URL:https://ntpud.org
X-WR-CALDESC:Events for North Tahoe Public Utility District
REFRESH-INTERVAL;VALUE=DURATION:PT1H
X-Robots-Tag:noindex
X-PUBLISHED-TTL:PT1H
BEGIN:VTIMEZONE
TZID:America/Los_Angeles
BEGIN:DAYLIGHT
TZOFFSETFROM:-0800
TZOFFSETTO:-0700
TZNAME:PDT
DTSTART:20250309T100000
END:DAYLIGHT
BEGIN:STANDARD
TZOFFSETFROM:-0700
TZOFFSETTO:-0800
TZNAME:PST
DTSTART:20251102T090000
END:STANDARD
BEGIN:DAYLIGHT
TZOFFSETFROM:-0800
TZOFFSETTO:-0700
TZNAME:PDT
DTSTART:20260308T100000
END:DAYLIGHT
BEGIN:STANDARD
TZOFFSETFROM:-0700
TZOFFSETTO:-0800
TZNAME:PST
DTSTART:20261101T090000
END:STANDARD
BEGIN:DAYLIGHT
TZOFFSETFROM:-0800
TZOFFSETTO:-0700
TZNAME:PDT
DTSTART:20270314T100000
END:DAYLIGHT
BEGIN:STANDARD
TZOFFSETFROM:-0700
TZOFFSETTO:-0800
TZNAME:PST
DTSTART:20271107T090000
END:STANDARD
END:VTIMEZONE
BEGIN:VEVENT
DTSTART;TZID=America/Los_Angeles:20260129T173000
DTEND;TZID=America/Los_Angeles:20260129T193000
DTSTAMP:20260420T213359
CREATED:20251218T183746Z
LAST-MODIFIED:20251218T183746Z
UID:10003460-1769707800-1769715000@ntpud.org
SUMMARY:Chickadee Art Workshop | Disco Ball Painting
DESCRIPTION:Shine bright and learn how to paint your own dazzling disco ball!  \nHosted in partnership with artist Nicole Stirling\, owner of Chickadee Art Collective in Kings Beach\, this acrylic workshop invites students to explore foundational still life painting techniques while creating a vibrant\, light-filled disco ball on a wood panel. \nThis is a two-day class\, held January 28 & 29\, from 5:30–7:30 PM each evening\, allowing participants time to fully develop their project. You only need to register once to attend both sessions. \nREGISTER HERE \nCost: $60 | Residents. $75 | Non-Residents \nAges 15+
URL:https://ntpud.org/recreation-parks-programs-event/chickadee-art-workshop-disco-ball-painting-2/
LOCATION:North Tahoe Event Center\, 8318 North Lake Boulevard\, Kings Beach\, CA\, 96143\, United States
CATEGORIES:Chickadee Art Workshops
ATTACH;FMTTYPE=image/jpeg:https://ntpud.org/wp-content/uploads/2025/12/16_NTPUD-Chickadee-DiscoBall-FBCal-012826.jpg
END:VEVENT
END:VCALENDAR