BEGIN:VCALENDAR
VERSION:2.0
PRODID:-//North Tahoe Public Utility District - ECPv6.15.20//NONSGML v1.0//EN
CALSCALE:GREGORIAN
METHOD:PUBLISH
X-WR-CALNAME:North Tahoe Public Utility District
X-ORIGINAL-URL:https://ntpud.org
X-WR-CALDESC:Events for North Tahoe Public Utility District
REFRESH-INTERVAL;VALUE=DURATION:PT1H
X-Robots-Tag:noindex
X-PUBLISHED-TTL:PT1H
BEGIN:VTIMEZONE
TZID:America/Los_Angeles
BEGIN:DAYLIGHT
TZOFFSETFROM:-0800
TZOFFSETTO:-0700
TZNAME:PDT
DTSTART:20240310T100000
END:DAYLIGHT
BEGIN:STANDARD
TZOFFSETFROM:-0700
TZOFFSETTO:-0800
TZNAME:PST
DTSTART:20241103T090000
END:STANDARD
BEGIN:DAYLIGHT
TZOFFSETFROM:-0800
TZOFFSETTO:-0700
TZNAME:PDT
DTSTART:20250309T100000
END:DAYLIGHT
BEGIN:STANDARD
TZOFFSETFROM:-0700
TZOFFSETTO:-0800
TZNAME:PST
DTSTART:20251102T090000
END:STANDARD
BEGIN:DAYLIGHT
TZOFFSETFROM:-0800
TZOFFSETTO:-0700
TZNAME:PDT
DTSTART:20260308T100000
END:DAYLIGHT
BEGIN:STANDARD
TZOFFSETFROM:-0700
TZOFFSETTO:-0800
TZNAME:PST
DTSTART:20261101T090000
END:STANDARD
END:VTIMEZONE
BEGIN:VEVENT
DTSTART;TZID=America/Los_Angeles:20251203T173000
DTEND;TZID=America/Los_Angeles:20251203T190000
DTSTAMP:20260423T115405
CREATED:20250904T212649Z
LAST-MODIFIED:20250904T212649Z
UID:10003274-1764783000-1764788400@ntpud.org
SUMMARY:Community Garden Workshops
DESCRIPTION:Holiday Wreath Making \nCelebrate the holiday season with a touch of nature. Join our holiday wreath-making workshop and learn to create beautiful\, festive wreaths using foraged greenery from the park. This workshop is perfect for anyone looking to add a personal and natural touch to their holiday décor.  \nBecome a Community Garden Member Today! 
URL:https://ntpud.org/recreation-parks-programs-event/community-garden-workshops-3/
LOCATION:North Tahoe Event Center\, 8318 North Lake Boulevard\, Kings Beach\, CA\, 96143\, United States
CATEGORIES:Community Garden Workshop
ATTACH;FMTTYPE=image/jpeg:https://ntpud.org/wp-content/uploads/2025/09/NTPUD_GardenWorkshop_HolidayWreathMaking_FB_1920x1005_120325_v1-scaled-1.jpg
END:VEVENT
BEGIN:VEVENT
DTSTART;TZID=America/Los_Angeles:20251212T173000
DTEND;TZID=America/Los_Angeles:20251212T203000
DTSTAMP:20260423T115405
CREATED:20250905T000909Z
LAST-MODIFIED:20250905T000909Z
UID:10003422-1765560600-1765571400@ntpud.org
SUMMARY:Parent’s + Kids Night Out
DESCRIPTION:Drop off the kids at the North Tahoe Event Center and enjoy a night out on the town while the kids enjoy fun games\, and enjoy a movie on the event center BIG SCREEN (rated G or PG).  \nBYO dinner and snacks\, food not provided. Youth must be in grades 1st – 5th and register in advance. \n\n Friday: October 17\, November 14 + December 12\n 5:30–8:30pm\n\nCost:  \nResident | $20/per child \nNon-resident |$30 per child
URL:https://ntpud.org/recreation-parks-programs-event/parents-kids-night-out-3/
LOCATION:North Tahoe Event Center\, 8318 North Lake Boulevard\, Kings Beach\, CA\, 96143\, United States
CATEGORIES:Parents + Kids Night Out
ATTACH;FMTTYPE=image/jpeg:https://ntpud.org/wp-content/uploads/2025/09/NTPUD_ParentsNightOut_FB_1920x1005_0825_v1-scaled-1.jpg
END:VEVENT
BEGIN:VEVENT
DTSTART;TZID=America/Los_Angeles:20251214T160000
DTEND;TZID=America/Los_Angeles:20251214T180000
DTSTAMP:20260423T115405
CREATED:20250904T213117Z
LAST-MODIFIED:20250904T213117Z
UID:10003275-1765728000-1765735200@ntpud.org
SUMMARY:Community Garden Workshops
DESCRIPTION:Holiday Wreath Making \nCelebrate the holiday season with a touch of nature. Join our holiday wreath-making workshop and learn to create beautiful\, festive wreaths using foraged greenery from the park. This workshop is perfect for anyone looking to add a personal and natural touch to their holiday décor.  \nBecome a Community Garden Member Today! 
URL:https://ntpud.org/recreation-parks-programs-event/community-garden-workshops-4/
LOCATION:North Tahoe Event Center\, 8318 North Lake Boulevard\, Kings Beach\, CA\, 96143\, United States
CATEGORIES:Community Garden Workshop
ATTACH;FMTTYPE=image/jpeg:https://ntpud.org/wp-content/uploads/2025/09/NTPUD_GardenWorkshop_HolidayWreathMaking_FB_1920x1005_120325_v1-scaled-1.jpg
END:VEVENT
BEGIN:VEVENT
DTSTART;TZID=America/Los_Angeles:20251226T090000
DTEND;TZID=America/Los_Angeles:20251226T110000
DTSTAMP:20260423T115405
CREATED:20250903T203636Z
LAST-MODIFIED:20250903T203636Z
UID:10003269-1766739600-1766746800@ntpud.org
SUMMARY:Lost Sauna Wellness Days
DESCRIPTION:We’re thrilled to bring back Lost Sauna Wellness Days this holiday season—your chance to pause\, reset\, and enjoy some much-needed “you” time! Enjoy a 1-hour Plunge and Sauna session at the North Tahoe Event Center Lakeview Room. Stay healthy this holiday season and reset after the festivities. \n\n Two Sessions: 9–10am + 10–11am\n Ages: 18+ (15 if accompanied by an adult)\n\nResident: $25 |  Non-resident: $35
URL:https://ntpud.org/recreation-parks-programs-event/lost-sauna-wellness-days-2/
LOCATION:North Tahoe Event Center\, 8318 North Lake Boulevard\, Kings Beach\, CA\, 96143\, United States
ATTACH;FMTTYPE=image/jpeg:https://ntpud.org/wp-content/uploads/2025/09/NTPUD_LostSauna_CAL_1920x1005_0825_v1-scaled-1.jpg
END:VEVENT
END:VCALENDAR