BEGIN:VCALENDAR
VERSION:2.0
PRODID:-//North Tahoe Public Utility District - ECPv6.15.20//NONSGML v1.0//EN
CALSCALE:GREGORIAN
METHOD:PUBLISH
X-ORIGINAL-URL:https://ntpud.org
X-WR-CALDESC:Events for North Tahoe Public Utility District
REFRESH-INTERVAL;VALUE=DURATION:PT1H
X-Robots-Tag:noindex
X-PUBLISHED-TTL:PT1H
BEGIN:VTIMEZONE
TZID:America/Los_Angeles
BEGIN:DAYLIGHT
TZOFFSETFROM:-0800
TZOFFSETTO:-0700
TZNAME:PDT
DTSTART:20240310T100000
END:DAYLIGHT
BEGIN:STANDARD
TZOFFSETFROM:-0700
TZOFFSETTO:-0800
TZNAME:PST
DTSTART:20241103T090000
END:STANDARD
BEGIN:DAYLIGHT
TZOFFSETFROM:-0800
TZOFFSETTO:-0700
TZNAME:PDT
DTSTART:20250309T100000
END:DAYLIGHT
BEGIN:STANDARD
TZOFFSETFROM:-0700
TZOFFSETTO:-0800
TZNAME:PST
DTSTART:20251102T090000
END:STANDARD
BEGIN:DAYLIGHT
TZOFFSETFROM:-0800
TZOFFSETTO:-0700
TZNAME:PDT
DTSTART:20260308T100000
END:DAYLIGHT
BEGIN:STANDARD
TZOFFSETFROM:-0700
TZOFFSETTO:-0800
TZNAME:PST
DTSTART:20261101T090000
END:STANDARD
END:VTIMEZONE
BEGIN:VEVENT
DTSTART;TZID=America/Los_Angeles:20251105T173000
DTEND;TZID=America/Los_Angeles:20251105T190000
DTSTAMP:20260423T093105
CREATED:20250904T211638Z
LAST-MODIFIED:20250904T211638Z
UID:10003273-1762363800-1762369200@ntpud.org
SUMMARY:Community Garden Workshops
DESCRIPTION:Home Fermentation 101 \nDive into the fascinating world of fermentation with our easy at-home fermentation workshop. Perfect for beginners and enthusiasts alike\, this workshop will guide you through the basics of fermenting your own delicious and nutritious foods right in your kitchen.  \nCost: $20/members\, $30/residents\, $40/non-residents \nBecome a Community Garden Member Today! 
URL:https://ntpud.org/recreation-parks-programs-event/community-garden-workshops-2/
LOCATION:North Tahoe Event Center\, 8318 North Lake Boulevard\, Kings Beach\, CA\, 96143\, United States
CATEGORIES:Community Garden Workshop
ATTACH;FMTTYPE=image/jpeg:https://ntpud.org/wp-content/uploads/2025/09/NTPUD_GardenWorkshop_HomeFermentation_FB_1920x1005_110525_v1-scaled-1.jpg
END:VEVENT
BEGIN:VEVENT
DTSTART;TZID=America/Los_Angeles:20251114T173000
DTEND;TZID=America/Los_Angeles:20251114T203000
DTSTAMP:20260423T093105
CREATED:20250905T000822Z
LAST-MODIFIED:20250905T000822Z
UID:10003421-1763141400-1763152200@ntpud.org
SUMMARY:Parent’s + Kids Night Out
DESCRIPTION:Drop off the kids at the North Tahoe Event Center and enjoy a night out on the town while the kids enjoy fun games\, and enjoy a movie on the event center BIG SCREEN (rated G or PG).  \nBYO dinner and snacks\, food not provided. Youth must be in grades 1st – 5th and register in advance. \n\n Friday: October 17\, November 14 + December 12\n 5:30–8:30pm\n\nCost:  \nResident | $20/per child \nNon-resident |$30 per child
URL:https://ntpud.org/recreation-parks-programs-event/parents-kids-night-out-2/
LOCATION:North Tahoe Event Center\, 8318 North Lake Boulevard\, Kings Beach\, CA\, 96143\, United States
CATEGORIES:Parents + Kids Night Out
ATTACH;FMTTYPE=image/jpeg:https://ntpud.org/wp-content/uploads/2025/09/NTPUD_ParentsNightOut_FB_1920x1005_0825_v1-scaled-1.jpg
END:VEVENT
BEGIN:VEVENT
DTSTART;TZID=America/Los_Angeles:20251127T140000
DTEND;TZID=America/Los_Angeles:20251127T173000
DTSTAMP:20260423T093105
CREATED:20250905T173525Z
LAST-MODIFIED:20250905T173525Z
UID:10003430-1764252000-1764264600@ntpud.org
SUMMARY:Community Thanksgiving Celebration
DESCRIPTION:Enjoy a traditional Thanksgiving meal with community members\, family\, and friends at the North Tahoe Event Center in Kings Beach. All are welcome and everyone eats for FREE! In years past\, over 700 people had happy\, full tummies because of volunteers and donors. \nMeal delivery to North Tahoe residents will also be available again this year for those that need it. \nFood donations and volunteers appreciated!\nThere are plenty of volunteer time slots and jobs available.\nTo support or get involved email parks@ntpud.org\nOR sign up for volunteer shifts here: HERE \n••• \nThis annual event is made possible through support from longtime North Tahoe residents\, volunteers\, local businesses\, and community partners. \nProudly brought to you by: \nBoys & Girls Club of North Lake Tahoe\nHot Diggity Dog & Cat\nNorth Tahoe Recreation & Parks\nSierra Community House\nSierra Senior Services\nSt. Francis of Assisi\nSt. Patrick’s\nTahoe Truckee Unified School District\nUnited for Action \nThank you to our Sponsors:\nAce Hardware Incline Village\nAce Hardware Kings Beach\nAsian Vibes\nGrocery Outlet\nLanza’s\nLas Panchitas\nProduce Plus (Habeger)\nRainbow Printing\nRaley’s ONE + Raley’s\nSafeway\nSoule Domain\nTahoe House Bakery & Gourmet\nTruckee Sourdough Co. \n 
URL:https://ntpud.org/recreation-parks-programs-event/community-thanksgiving/
LOCATION:North Tahoe Event Center\, 8318 North Lake Boulevard\, Kings Beach\, CA\, 96143\, United States
CATEGORIES:Community Event
ATTACH;FMTTYPE=image/jpeg:https://ntpud.org/wp-content/uploads/2025/09/NTPUD_CommunityThanksgiving_FB_1920x1005_1025_v1-scaled-1.jpg
END:VEVENT
BEGIN:VEVENT
DTSTART;TZID=America/Los_Angeles:20251128T090000
DTEND;TZID=America/Los_Angeles:20251128T110000
DTSTAMP:20260423T093105
CREATED:20250903T203507Z
LAST-MODIFIED:20250903T203507Z
UID:10003268-1764320400-1764327600@ntpud.org
SUMMARY:Lost Sauna Wellness Days
DESCRIPTION:We’re thrilled to bring back Lost Sauna Wellness Days this holiday season—your chance to pause\, reset\, and enjoy some much-needed “you” time! Enjoy a 1-hour Plunge and Sauna session at the North Tahoe Event Center Lakeview Room. Stay healthy this holiday season and reset after the festivities. \n\n Two Sessions: 9–10am + 10–11am\n Ages: 18+ (15 if accompanied by an adult)\n\nResident: $25 |  Non-resident: $35
URL:https://ntpud.org/recreation-parks-programs-event/lost-sauna-wellness-days/
LOCATION:North Tahoe Event Center\, 8318 North Lake Boulevard\, Kings Beach\, CA\, 96143\, United States
ATTACH;FMTTYPE=image/jpeg:https://ntpud.org/wp-content/uploads/2025/09/NTPUD_LostSauna_CAL_1920x1005_0825_v1-scaled-1.jpg
END:VEVENT
END:VCALENDAR