BEGIN:VCALENDAR
VERSION:2.0
PRODID:-//North Tahoe Public Utility District - ECPv6.15.18//NONSGML v1.0//EN
CALSCALE:GREGORIAN
METHOD:PUBLISH
X-WR-CALNAME:North Tahoe Public Utility District
X-ORIGINAL-URL:https://ntpud.org
X-WR-CALDESC:Events for North Tahoe Public Utility District
REFRESH-INTERVAL;VALUE=DURATION:PT1H
X-Robots-Tag:noindex
X-PUBLISHED-TTL:PT1H
BEGIN:VTIMEZONE
TZID:America/Los_Angeles
BEGIN:DAYLIGHT
TZOFFSETFROM:-0800
TZOFFSETTO:-0700
TZNAME:PDT
DTSTART:20240310T100000
END:DAYLIGHT
BEGIN:STANDARD
TZOFFSETFROM:-0700
TZOFFSETTO:-0800
TZNAME:PST
DTSTART:20241103T090000
END:STANDARD
BEGIN:DAYLIGHT
TZOFFSETFROM:-0800
TZOFFSETTO:-0700
TZNAME:PDT
DTSTART:20250309T100000
END:DAYLIGHT
BEGIN:STANDARD
TZOFFSETFROM:-0700
TZOFFSETTO:-0800
TZNAME:PST
DTSTART:20251102T090000
END:STANDARD
BEGIN:DAYLIGHT
TZOFFSETFROM:-0800
TZOFFSETTO:-0700
TZNAME:PDT
DTSTART:20260308T100000
END:DAYLIGHT
BEGIN:STANDARD
TZOFFSETFROM:-0700
TZOFFSETTO:-0800
TZNAME:PST
DTSTART:20261101T090000
END:STANDARD
END:VTIMEZONE
BEGIN:VEVENT
DTSTART;TZID=America/Los_Angeles:20250901T083000
DTEND;TZID=America/Los_Angeles:20250901T100000
DTSTAMP:20260419T072415
CREATED:20250508T171504Z
LAST-MODIFIED:20250508T171504Z
UID:10003129-1756715400-1756720800@ntpud.org
SUMMARY:Clean-Up Day
DESCRIPTION:Help keep our beach and community clean!\nMeet at the North Tahoe Event Center\, Lakeside Terrace and “comb the beach” for trash (and treasures) from our busy summer weekends. Gear up with cleaning supplies will be provided. \nCoffee and breakfast snacks provided. \n\nMondays\, 8:30–10am\nJune 2 – September 1
URL:https://ntpud.org/recreation-parks-programs-event/monday-community-clean-up-day/2025-09-01/
LOCATION:North Tahoe Event Center\, 8318 North Lake Boulevard\, Kings Beach\, CA\, 96143\, United States
CATEGORIES:Community Clean-Up Day,Community Event
ATTACH;FMTTYPE=image/jpeg:https://ntpud.org/wp-content/uploads/2025/05/NTPUD_BeachCleanUp_FB_1920x1005_0525_v1-scaled-1.jpg
END:VEVENT
BEGIN:VEVENT
DTSTART;TZID=America/Los_Angeles:20250825T083000
DTEND;TZID=America/Los_Angeles:20250825T100000
DTSTAMP:20260419T072415
CREATED:20250508T171504Z
LAST-MODIFIED:20250508T171504Z
UID:10003128-1756110600-1756116000@ntpud.org
SUMMARY:Clean-Up Day
DESCRIPTION:Help keep our beach and community clean!\nMeet at the North Tahoe Event Center\, Lakeside Terrace and “comb the beach” for trash (and treasures) from our busy summer weekends. Gear up with cleaning supplies will be provided. \nCoffee and breakfast snacks provided. \n\nMondays\, 8:30–10am\nJune 2 – September 1
URL:https://ntpud.org/recreation-parks-programs-event/monday-community-clean-up-day/2025-08-25/
LOCATION:North Tahoe Event Center\, 8318 North Lake Boulevard\, Kings Beach\, CA\, 96143\, United States
CATEGORIES:Community Clean-Up Day,Community Event
ATTACH;FMTTYPE=image/jpeg:https://ntpud.org/wp-content/uploads/2025/05/NTPUD_BeachCleanUp_FB_1920x1005_0525_v1-scaled-1.jpg
END:VEVENT
BEGIN:VEVENT
DTSTART;TZID=America/Los_Angeles:20250818T083000
DTEND;TZID=America/Los_Angeles:20250818T100000
DTSTAMP:20260419T072415
CREATED:20250508T171504Z
LAST-MODIFIED:20250508T171504Z
UID:10003127-1755505800-1755511200@ntpud.org
SUMMARY:Clean-Up Day
DESCRIPTION:Help keep our beach and community clean!\nMeet at the North Tahoe Event Center\, Lakeside Terrace and “comb the beach” for trash (and treasures) from our busy summer weekends. Gear up with cleaning supplies will be provided. \nCoffee and breakfast snacks provided. \n\nMondays\, 8:30–10am\nJune 2 – September 1
URL:https://ntpud.org/recreation-parks-programs-event/monday-community-clean-up-day/2025-08-18/
LOCATION:North Tahoe Event Center\, 8318 North Lake Boulevard\, Kings Beach\, CA\, 96143\, United States
CATEGORIES:Community Clean-Up Day,Community Event
ATTACH;FMTTYPE=image/jpeg:https://ntpud.org/wp-content/uploads/2025/05/NTPUD_BeachCleanUp_FB_1920x1005_0525_v1-scaled-1.jpg
END:VEVENT
END:VCALENDAR