BEGIN:VCALENDAR
VERSION:2.0
PRODID:-//North Tahoe Public Utility District - ECPv6.15.18//NONSGML v1.0//EN
CALSCALE:GREGORIAN
METHOD:PUBLISH
X-WR-CALNAME:North Tahoe Public Utility District
X-ORIGINAL-URL:https://ntpud.org
X-WR-CALDESC:Events for North Tahoe Public Utility District
REFRESH-INTERVAL;VALUE=DURATION:PT1H
X-Robots-Tag:noindex
X-PUBLISHED-TTL:PT1H
BEGIN:VTIMEZONE
TZID:America/Los_Angeles
BEGIN:DAYLIGHT
TZOFFSETFROM:-0800
TZOFFSETTO:-0700
TZNAME:PDT
DTSTART:20250309T100000
END:DAYLIGHT
BEGIN:STANDARD
TZOFFSETFROM:-0700
TZOFFSETTO:-0800
TZNAME:PST
DTSTART:20251102T090000
END:STANDARD
BEGIN:DAYLIGHT
TZOFFSETFROM:-0800
TZOFFSETTO:-0700
TZNAME:PDT
DTSTART:20260308T100000
END:DAYLIGHT
BEGIN:STANDARD
TZOFFSETFROM:-0700
TZOFFSETTO:-0800
TZNAME:PST
DTSTART:20261101T090000
END:STANDARD
BEGIN:DAYLIGHT
TZOFFSETFROM:-0800
TZOFFSETTO:-0700
TZNAME:PDT
DTSTART:20270314T100000
END:DAYLIGHT
BEGIN:STANDARD
TZOFFSETFROM:-0700
TZOFFSETTO:-0800
TZNAME:PST
DTSTART:20271107T090000
END:STANDARD
END:VTIMEZONE
BEGIN:VEVENT
DTSTART;TZID=America/Los_Angeles:20260404T090000
DTEND;TZID=America/Los_Angeles:20260404T120000
DTSTAMP:20260419T180933
CREATED:20251218T234812Z
LAST-MODIFIED:20251218T234812Z
UID:10003477-1775293200-1775304000@ntpud.org
SUMMARY:Spring Scavenger Hunt
DESCRIPTION:Join us for the Spring Scavenger Hunt for an adventurous hunt\, and our spin on a traditional Egg Hunt! \nThroughout the scavenger hunt participants will: \n\nSearch for unique items and our furry\, feathered\, and flowering friends throughout the recreation area.\nTake selfies with the Easter Bunny (10am-12pm)\nSearch for the GOLDEN EGG\n…and much more!\n\nAll participants will receive and Easter “Basket” full of cady and prizes.
URL:https://ntpud.org/recreation-parks-programs-event/spring-scavenger-hunt/
LOCATION:North Tahoe Regional Park\, 6600 Donner Road\, Tahoe Vista\, CA\, 96148\, United States
CATEGORIES:Spring Scavenger Hunt
ATTACH;FMTTYPE=image/jpeg:https://ntpud.org/wp-content/uploads/2025/12/1_NTPUD-EasterSpringScavengerHunt-FBCal-040426.jpg
END:VEVENT
END:VCALENDAR