BEGIN:VCALENDAR
VERSION:2.0
PRODID:-//North Tahoe Public Utility District - ECPv6.15.18//NONSGML v1.0//EN
CALSCALE:GREGORIAN
METHOD:PUBLISH
X-WR-CALNAME:North Tahoe Public Utility District
X-ORIGINAL-URL:https://ntpud.org
X-WR-CALDESC:Events for North Tahoe Public Utility District
REFRESH-INTERVAL;VALUE=DURATION:PT1H
X-Robots-Tag:noindex
X-PUBLISHED-TTL:PT1H
BEGIN:VTIMEZONE
TZID:America/Los_Angeles
BEGIN:DAYLIGHT
TZOFFSETFROM:-0800
TZOFFSETTO:-0700
TZNAME:PDT
DTSTART:20250309T100000
END:DAYLIGHT
BEGIN:STANDARD
TZOFFSETFROM:-0700
TZOFFSETTO:-0800
TZNAME:PST
DTSTART:20251102T090000
END:STANDARD
BEGIN:DAYLIGHT
TZOFFSETFROM:-0800
TZOFFSETTO:-0700
TZNAME:PDT
DTSTART:20260308T100000
END:DAYLIGHT
BEGIN:STANDARD
TZOFFSETFROM:-0700
TZOFFSETTO:-0800
TZNAME:PST
DTSTART:20261101T090000
END:STANDARD
BEGIN:DAYLIGHT
TZOFFSETFROM:-0800
TZOFFSETTO:-0700
TZNAME:PDT
DTSTART:20270314T100000
END:DAYLIGHT
BEGIN:STANDARD
TZOFFSETFROM:-0700
TZOFFSETTO:-0800
TZNAME:PST
DTSTART:20271107T090000
END:STANDARD
END:VTIMEZONE
BEGIN:VEVENT
DTSTART;TZID=America/Los_Angeles:20260227T170000
DTEND;TZID=America/Los_Angeles:20260227T190000
DTSTAMP:20260420T090907
CREATED:20251218T192951Z
LAST-MODIFIED:20251218T192951Z
UID:10003468-1772211600-1772218800@ntpud.org
SUMMARY:Nordic Nights- XC Skiing
DESCRIPTION:Wax up your skis and join us for night skiing\, dancing\, races\, and a fun family party at the park!  \nNo skis? No problem! FREE Demos available to learn how to stride and glide. Come enjoy the park under the night sky. \n\n\n\n\n\n\nNEW SNOWFEST event! \nFREE skate ski and classic ski demos provided by Tahoe Multi-Sport.\nHot cocoa and fires for roasting marshmallows.\nRegister to race in the Birdie Loop Relay team event or the individual time trial event! Races start at 6pm. Register for relay race HERE & Individual time trial HERE\n\nAll are welcome to ski\, hang out with family and friends\, or dance the night away!\n \n\n\n\n\n\n\n\n\n\n\nEvent is weather and snow conditions dependent. \nREGISTER HERE
URL:https://ntpud.org/recreation-parks-programs-event/nordic-nights-xc-skiing-2/
LOCATION:North Tahoe Regional Park\, 6600 Donner Road\, Tahoe Vista\, CA\, 96148\, United States
CATEGORIES:Nordic Nights
ATTACH;FMTTYPE=image/jpeg:https://ntpud.org/wp-content/uploads/2025/12/13_NTPUD-NordicNights-FBCal-022726.jpg
END:VEVENT
END:VCALENDAR